1.00000000000000
0.00000000000000
0.00000000000000
-1.00000000000000
631990.50000000000000
5134009.50000000000000
