2.00000000000000
0.00000000000000
0.00000000000000
-2.00000000000000
649991.00000000000000
5134009.00000000000000
