1.00000000000000
0.00000000000000
0.00000000000000
-1.00000000000000
691990.00000000000000
5132009.50000000000000
