1.00000000000000
0.00000000000000
0.00000000000000
-1.00000000000000
673990.00000000000000
5124009.00000000000000
