1.00000000000000
0.00000000000000
0.00000000000000
-1.00000000000000
671990.00000000000000
5122009.00000000000000
