2.00000000000000
0.00000000000000
0.00000000000000
-2.00000000000000
693991.00000000000000
5122009.00000000000000
