1.00000000000000
0.00000000000000
0.00000000000000
-1.00000000000000
673990.00000000000000
5116009.00000000000000
