1.00000000000000
0.00000000000000
0.00000000000000
-1.00000000000000
633990.50000000000000
5114009.50000000000000
