2.00000000000000
0.00000000000000
0.00000000000000
-2.00000000000000
639991.00000000000000
5114009.00000000000000
