1.00000000000000
0.00000000000000
0.00000000000000
-1.00000000000000
675990.50000000000000
5102009.50000000000000
