1.00000000000000
0.00000000000000
0.00000000000000
-1.00000000000000
673990.50000000000000
5094009.00000000000000
