1.00000000000000
0.00000000000000
0.00000000000000
-1.00000000000000
619990.50000000000000
5092009.50000000000000
