2.00000000000000
0.00000000000000
0.00000000000000
-2.00000000000000
631991.00000000000000
5092009.00000000000000
