1.00000000000000
0.00000000000000
0.00000000000000
-1.00000000000000
679990.00000000000000
5092009.00000000000000
