1.00000000000000
0.00000000000000
0.00000000000000
-1.00000000000000
661990.50000000000000
5086009.50000000000000
