1.00000000000000
0.00000000000000
0.00000000000000
-1.00000000000000
663990.00000000000000
5080009.00000000000000
