1.00000000000000
0.00000000000000
0.00000000000000
-1.00000000000000
669990.00000000000000
5078009.00000000000000
