1.00000000000000
0.00000000000000
0.00000000000000
-1.00000000000000
667990.00000000000000
5076009.00000000000000
