1.00000000000000
0.00000000000000
0.00000000000000
-1.00000000000000
617990.50000000000000
5074009.50000000000000
