1.00000000000000
0.00000000000000
0.00000000000000
-1.00000000000000
651990.50000000000000
5064009.50000000000000
