1.00000000000000
0.00000000000000
0.00000000000000
-1.00000000000000
711990.50000000000000
5152009.50000000000000
