2.00000000000000
0.00000000000000
0.00000000000000
-2.00000000000000
657991.00000000000000
5150009.00000000000000
