1.00000000000000
0.00000000000000
0.00000000000000
-1.00000000000000
703990.50000000000000
5148009.50000000000000
