1.00000000000000
0.00000000000000
0.00000000000000
-1.00000000000000
709990.50000000000000
5144009.50000000000000
