1.00000000000000
0.00000000000000
0.00000000000000
-1.00000000000000
637990.50000000000000
5142009.50000000000000
