1.00000000000000
0.00000000000000
0.00000000000000
-1.00000000000000
691990.00000000000000
5136010.00000000000000
