1.00000000000000
0.00000000000000
0.00000000000000
-1.00000000000000
695990.00000000000000
5134009.00000000000000
