1.00000000000000
0.00000000000000
0.00000000000000
-1.00000000000000
681990.00000000000000
5132009.00000000000000
