1.00000000000000
0.00000000000000
0.00000000000000
-1.00000000000000
629990.50000000000000
5128009.50000000000000
