2.00000000000000
0.00000000000000
0.00000000000000
-2.00000000000000
723991.00000000000000
5128009.00000000000000
