1.00000000000000
0.00000000000000
0.00000000000000
-1.00000000000000
723990.50000000000000
5120009.50000000000000
