1.00000000000000
0.00000000000000
0.00000000000000
-1.00000000000000
689990.50000000000000
5108009.50000000000000
