2.00000000000000
0.00000000000000
0.00000000000000
-2.00000000000000
613990.00000000000000
5104009.00000000000000
