1.00000000000000
0.00000000000000
0.00000000000000
-1.00000000000000
687990.50000000000000
5098009.50000000000000
