1.00000000000000
0.00000000000000
0.00000000000000
-1.00000000000000
675990.00000000000000
5094009.00000000000000
