2.00000000000000
0.00000000000000
0.00000000000000
-2.00000000000000
613991.00000000000000
5090009.00000000000000
