1.00000000000000
0.00000000000000
0.00000000000000
-1.00000000000000
669990.50000000000000
5084009.50000000000000
