1.00000000000000
0.00000000000000
0.00000000000000
-1.00000000000000
615990.50000000000000
5080009.50000000000000
