1.00000000000000
0.00000000000000
0.00000000000000
-1.00000000000000
653990.50000000000000
5078009.50000000000000
