0.2000
0.0000
0.0000
-0.2000
688773.6253
5097188.0377
