0.20000000000000
0.00000000000000
0.00000000000000
-0.20000000000000
634000.03099999996000
5131999.90400000010000
